BEGIN:VCALENDAR
VERSION:2.0
PRODID:-//hacksw/handcal//NONSGML v1.0//EN
BEGIN:VEVENT
SUMMARY:Fete du pass
UID:5e5ed3ee-7444-47fa-821f-00ce644ea9ec
DTSTART:20260624T160000Z
DTEND:20260624T173000Z
LOCATION:Localisation   
CATEGORIES:Sportif
STATUS:
URL;VALUE=URI:https://www.joue-athle.fr/evenements/2026/06/24/fete-du-pass-2442065
END:VEVENT
END:VCALENDAR
